BEGIN:VCALENDAR
VERSION:2.0
PRODID:SFPL Web Calendar
BEGIN:VEVENT
UID:100091@sfpl.org
DTSTAMP:20241102T173000Z
DTSTART:20241102T173000Z
DTEND:20241102T193000Z
SUMMARY:Activity: Toddler Coloring and Toys
DESCRIPTION:<p>Join us in the Children's Section for coloring and playing with toys. We will have extra coloring sheets and a small selection of toys and toddler friendly games to enjoy. Please know that the Program Room will be unavailable for playtime this Saturday.</p><p>For ages 1-5.</p>
LOCATION:Glen Park - Glen Park Meeting Room
CLASS:PUBLIC
TRANSP:TRANSPARENT
END:VEVENT
BEGIN:VALARM
TRIGGER:-PT1440M
ACTION:DISPLAY
DESCRIPTION:Event Reminder - Activity: Toddler Coloring and Toys
END:VALARM
END:VCALENDAR