BEGIN:VCALENDAR
VERSION:2.0
PRODID:SFPL Web Calendar
BEGIN:VEVENT
UID:103965@sfpl.org
DTSTAMP:20250104T220000Z
DTSTART:20250104T220000Z
DTEND:20250104T230000Z
SUMMARY:Workshop: Polyhedra Party
DESCRIPTION:<p>Come to color and construct your own geometric form using the patterned nets of Cubes and Things, a series of 3D coloring books. The workshop will begin with a short talk by the artist, Stacy Speyer.&nbsp; See how her artistic focus transitioned from weaving large-scale&nbsp;installations to making geometric forms and learn a little about the geometry of the shapes you can make in the paper craft workshop.</p><p>Stacy Speyer is an artist, educator, and author, with a MFA from CCA.&nbsp;After many years of creating large scale installations of hand woven and hand dyed sewing thread, her artwork shifted towards geometric forms.&nbsp;Entranced by the beauty of mathematics, Stacy has taken a bunch of college level math classes and is very passionate about sharing the joy of easily accessible math through her Polyhedra Party workshops.<br>&nbsp;</p><p>Connect: <a href="http://www.stacyspeyer.net/">Stacey Speyer - Website</a> | <a href="https://polyhedra.stacyspeyer.net/">Stacey Speyer - Polyhedra</a> | <a href="https://polyhedra.stacyspeyer.net/artwork-link-page">Stacey Speyer - Artworks</a> | <a href="https://polyhedra.stacyspeyer.net/book-link-page">Stacey Speyer - Books</a></p>
LOCATION:West Portal - West Portal Children's Area
CLASS:PUBLIC
TRANSP:TRANSPARENT
END:VEVENT
BEGIN:VALARM
TRIGGER:-PT1440M
ACTION:DISPLAY
DESCRIPTION:Event Reminder - Workshop: Polyhedra Party
END:VALARM
END:VCALENDAR