BEGIN:VCALENDAR
VERSION:2.0
PRODID:SFPL Web Calendar
BEGIN:VEVENT
UID:107643@sfpl.org
DTSTAMP:20260521T000000Z
DTSTART:20260521T000000Z
DTEND:20260521T020000Z
SUMMARY:Film: East Bay
DESCRIPTION:<p>An unexpectedly uplifting comedy about a 39-year-old man who is forced to accept he’s a failure and starts having hallucinations that make him question reality. He turns to his friends, whose lives also haven’t exactly gone as planned.</p><p>NR, 93 mins., 2022. Closed captions (CC) in English. Snacks provided.</p>
LOCATION:Park - Park Meeting Room
CLASS:PUBLIC
TRANSP:TRANSPARENT
END:VEVENT
BEGIN:VALARM
TRIGGER:-PT1440M
ACTION:DISPLAY
DESCRIPTION:Event Reminder - Film: East Bay
END:VALARM
END:VCALENDAR