BEGIN:VCALENDAR
VERSION:2.0
PRODID:SFPL Web Calendar
BEGIN:VEVENT
UID:108726@sfpl.org
DTSTAMP:20250214T000000Z
DTSTART:20250214T000000Z
DTEND:20250214T010000Z
SUMMARY:Activity: Button Making
DESCRIPTION:<p>Create a Valentine's Day themed button for yourself or a friend. For ages 10–18.&nbsp;</p>
LOCATION:Anza - Anza Meeting Room
CLASS:PUBLIC
TRANSP:TRANSPARENT
END:VEVENT
BEGIN:VALARM
TRIGGER:-PT1440M
ACTION:DISPLAY
DESCRIPTION:Event Reminder - Activity: Button Making
END:VALARM
END:VCALENDAR