BEGIN:VCALENDAR
VERSION:2.0
PRODID:SFPL Web Calendar
BEGIN:VEVENT
UID:109178@sfpl.org
DTSTAMP:20250205T230000Z
DTSTART:20250205T230000Z
DTEND:20250206T000000Z
SUMMARY:Workshop: Make Your Own Clock
DESCRIPTION:<p>Learn about Benjamin Banneker and assemble your own wooden clock. Benjamin Banneker is an African American mathematician, astronomer, and inventor who developed America's first fully functioning clock. For ages 10–18.</p>
LOCATION:Bayview/Linda Brooks-Burton - Bayview Meeting Room
CLASS:PUBLIC
TRANSP:TRANSPARENT
END:VEVENT
BEGIN:VALARM
TRIGGER:-PT1440M
ACTION:DISPLAY
DESCRIPTION:Event Reminder - Workshop: Make Your Own Clock
END:VALARM
END:VCALENDAR