BEGIN:VCALENDAR
VERSION:2.0
PRODID:SFPL Web Calendar
BEGIN:VEVENT
UID:109962@sfpl.org
DTSTAMP:20251015T223000Z
DTSTART:20251015T223000Z
DTEND:20251016T000000Z
SUMMARY:Activity: LEGO and Magna-Tiles Free Play
DESCRIPTION:<p>Build and create with our huge collection of LEGO bricks and mini-figurers, in addition to Magna-Tile blocks. For children and their caregivers.</p><p><br>&nbsp;</p>
LOCATION:Anza - Anza Meeting Room
CLASS:PUBLIC
TRANSP:TRANSPARENT
END:VEVENT
BEGIN:VALARM
TRIGGER:-PT1440M
ACTION:DISPLAY
DESCRIPTION:Event Reminder - Activity: LEGO and Magna-Tiles Free Play
END:VALARM
END:VCALENDAR