BEGIN:VCALENDAR
VERSION:2.0
PRODID:SFPL Web Calendar
BEGIN:VEVENT
UID:110535@sfpl.org
DTSTAMP:20250301T223000Z
DTSTART:20250301T223000Z
DTEND:20250302T000000Z
SUMMARY:Workshop: LEGO Robotics
DESCRIPTION:<p>Learn how to build a robot using LEGO Mindstorms, with Lowell High School students. For ages 7–13.</p><p>Space limited. Reservations&nbsp;required:&nbsp;(415) 355-5770 or sign-up&nbsp;at the information desk (starting February 1st)&nbsp;</p>
LOCATION:Parkside - Parkside Children's Area
CLASS:PUBLIC
TRANSP:TRANSPARENT
END:VEVENT
BEGIN:VALARM
TRIGGER:-PT1440M
ACTION:DISPLAY
DESCRIPTION:Event Reminder - Workshop: LEGO Robotics
END:VALARM
END:VCALENDAR