BEGIN:VCALENDAR
VERSION:2.0
PRODID:SFPL Web Calendar
BEGIN:VEVENT
UID:111507@sfpl.org
DTSTAMP:20250223T220000Z
DTSTART:20250223T220000Z
DTEND:20250223T230000Z
SUMMARY:Performance: Silk Strings Ensemble
DESCRIPTION:<p>Silk Strings Ensemble is a Chinese musical group made up of San Francisco high schoolers who perform Chinese traditional instruments: yangqin (also known as the Chinese hammered dulcimer) which is a stringed instrument played with rubber-tipped bamboo sticks, and guzheng (also known as the Chinese plucked zither) which is also a string instrument but plucked with finger picks.&nbsp;</p><p>Silk Strings Ensemble performs traditional Chinese music as well as modern favorites from Taylor Swift and BTS.&nbsp;</p>
LOCATION:Mission Bay - Mission Bay Program Room
CLASS:PUBLIC
TRANSP:TRANSPARENT
END:VEVENT
BEGIN:VALARM
TRIGGER:-PT1440M
ACTION:DISPLAY
DESCRIPTION:Event Reminder - Performance: Silk Strings Ensemble
END:VALARM
END:VCALENDAR