BEGIN:VCALENDAR
VERSION:2.0
PRODID:SFPL Web Calendar
BEGIN:VEVENT
UID:113951@sfpl.org
DTSTAMP:20251019T210000Z
DTSTART:20251019T210000Z
DTEND:20251019T230000Z
SUMMARY:Workshop: Fix-it Clinic, Clothing Repair
DESCRIPTION:<p>Join us and learn how to repair your clothing. This event is sponsored by the <a href="https://sfenvironment.org/zero-waste-in-SF-is-recycling-composting-and-reuse">San Francisco Environment</a>&nbsp;and <a href="http://scrap-sf.org/">SCRAP</a>, a creative reuse and arts education center. You may bring one clothing item for repair and materials will be provided. Each person will be paired with a SCRAP repair coach. We cannot do alterations or complicated fixes.</p><p>Space limited. Seats available first come, first served. One item per person.</p><p>Contact <a href="mailto:ResZeroWaste@sfgov.org">ResZeroWaste@sfgov.org</a> or call 415-355-3000 with any additional questions.</p>
LOCATION:Parkside - Parkside General Floor Area
CLASS:PUBLIC
TRANSP:TRANSPARENT
END:VEVENT
BEGIN:VALARM
TRIGGER:-PT1440M
ACTION:DISPLAY
DESCRIPTION:Event Reminder - Workshop: Fix-it Clinic, Clothing Repair
END:VALARM
END:VCALENDAR