BEGIN:VCALENDAR
VERSION:2.0
PRODID:SFPL Web Calendar
BEGIN:VEVENT
UID:114119@sfpl.org
DTSTAMP:20250424T010000Z
DTSTART:20250424T010000Z
DTEND:20250424T020000Z
SUMMARY:Workshop: Tea Blending Basics
DESCRIPTION:<p>Embark on a sensory journey as you discover the art of tea blending. Create your own calming and flavorful tea blend to take home and enjoy. A variety of teas and herbs, as well as hot water will be provided.</p><p>Space limited. Reservations required: (415) 355-5727.</p>
LOCATION:Western Addition - Western Addition Meeting Room
CLASS:PUBLIC
TRANSP:TRANSPARENT
END:VEVENT
BEGIN:VALARM
TRIGGER:-PT1440M
ACTION:DISPLAY
DESCRIPTION:Event Reminder - Workshop: Tea Blending Basics
END:VALARM
END:VCALENDAR