BEGIN:VCALENDAR
VERSION:2.0
PRODID:SFPL Web Calendar
BEGIN:VEVENT
UID:114818@sfpl.org
DTSTAMP:20250608T210000Z
DTSTART:20250608T210000Z
DTEND:20250608T230000Z
SUMMARY:FULL: Workshop: Japanese Papermaking
DESCRIPTION:<p><strong>The event and waitlist are full. &nbsp;The registration link was removed. No walk-ins, no plus-ones.&nbsp;</strong></p><p><strong>This is an adult program.</strong></p><p><strong>Note: </strong>For those who may wish to try making paper, papermaking is a wet activity. <strong>Please wear clothing and shoes that can get wet</strong><i>.</i> &nbsp;</p><p>&nbsp;</p><p>Did you know that Japanese paper called <i>washi</i> (Japanese paper) was used to preserve the Dunlap Broadside of the Declaration of Independence?&nbsp;</p><p>In this demonstration, papermaker <a href="https://www.michellewilsonprojects.com/teaching"><strong>Michelle Wilson</strong></a> will take participants through the steps of making Japanese style paper, better known as <i>washi</i>. <i>Washi</i>, often incorrectly referred to as rice paper, is known for its great strength&nbsp;while appearing delicate and gossamer-thin. This demonstration will be begun with processing the fiber known as <i>kо̄zo</i>（楮; こうぞ）through cleaning (<i>chiritori</i>) and hand beating, to the sheet formation technique known&nbsp;as <i>nagashizuki </i>(流し漉き). At the end of the demonstration, participants will have a chance to try out some of the steps of making paper themselves.&nbsp;</p><p><strong>About Michelle Wilson:</strong></p><p><a href="https://www.michellewilsonprojects.com/"><strong>Michelle Wilson</strong></a> is an interdisciplinary thinker, whose work involves papermaking, printmaking, book arts, installation and social practice.</p><p>She has exhibited her work both internationally and in the United States, including participation in biennials such as Philadelphia's Philagrafika 2010 and the 2006 Second International Biennial for the Artist's Book in Alexandria, Egypt. Her practice includes frequent collaborations with other artists, in particular her ongoing collaboration with Anne Beck as the Rhinoceros Project.</p><p>Artist-in-Residence programs that she is an alumna of include the David and Julia White Colony in Ciudad Colon, Costa Rica, the Jentel Artist Residency Program, in Banner, Wyoming, the San José Museum of Quilts and Textiles, and LAB-8’s Riabitare con l'Arte program in Abruzzo, Italy. &nbsp;In addition, she served as a Teaching Artist for the NIAD Art Center, (Richmond, CA) and Southern Exposure’s program at the Oakland Juvenile Hall.&nbsp;</p><p><strong>Space limited. The event and waitlist are full. &nbsp;The registration link was removed. No walk-ins.</strong></p><p>Connect:&nbsp;</p><p><a href="https://www.michellewilsonprojects.com/">Michelle Wilson - Website</a> | <a href="https://www.instagram.com/michellewilsonprojects/">Michelle Wilson - Instagram</a> | <a href="https://rhinocerosproject.org/">Michelle Wilson - Rhinoceros Project</a></p><hr><p><strong>Note: </strong>For those who may wish to try making paper, papermaking is a wet activity. <strong>Please wear clothing and shoes that can get wet</strong><i>.</i> &nbsp;</p><p>&nbsp;</p>
LOCATION:Main Library - Latino/Hispanic Meeting Room A
CLASS:PUBLIC
TRANSP:TRANSPARENT
END:VEVENT
BEGIN:VALARM
TRIGGER:-PT1440M
ACTION:DISPLAY
DESCRIPTION:Event Reminder - FULL: Workshop: Japanese Papermaking
END:VALARM
END:VCALENDAR