BEGIN:VCALENDAR
VERSION:2.0
PRODID:SFPL Web Calendar
BEGIN:VEVENT
UID:115019@sfpl.org
DTSTAMP:20251006T230000Z
DTSTART:20251006T230000Z
DTEND:20251007T000000Z
SUMMARY:Activity: Mooncake Tasting
DESCRIPTION:<p>Listen to some tales of the Mid-Autumn festival and try different types of mooncakes.&nbsp;</p><p>Space limited. Seats available first come, first served.</p>
LOCATION:Noe Valley/Sally Brunn - Noe Valley Meeting Room
CLASS:PUBLIC
TRANSP:TRANSPARENT
END:VEVENT
BEGIN:VALARM
TRIGGER:-PT1440M
ACTION:DISPLAY
DESCRIPTION:Event Reminder - Activity: Mooncake Tasting
END:VALARM
END:VCALENDAR