BEGIN:VCALENDAR
VERSION:2.0
PRODID:SFPL Web Calendar
BEGIN:VEVENT
UID:115049@sfpl.org
DTSTAMP:20250725T220000Z
DTSTART:20250725T220000Z
DTEND:20250725T230000Z
SUMMARY:Presentation: Wild Science with Tree Frog Treks
DESCRIPTION:<p>Meet reptiles and amphibians face-to-face and learn about the natural world around us. For children age 3 and up and their caregivers. Space limited. Reservations required: (415) 355-5727.&nbsp;</p><p>Connect: <a href="https://www.treefrogtreks.com/">Tree Frog Treks - Website</a></p>
LOCATION:Western Addition - Western Addition Back Courtyard
CLASS:PUBLIC
TRANSP:TRANSPARENT
END:VEVENT
BEGIN:VALARM
TRIGGER:-PT1440M
ACTION:DISPLAY
DESCRIPTION:Event Reminder - Presentation: Wild Science with Tree Frog Treks
END:VALARM
END:VCALENDAR