BEGIN:VCALENDAR
VERSION:2.0
PRODID:SFPL Web Calendar
BEGIN:VEVENT
UID:116051@sfpl.org
DTSTAMP:20250528T210000Z
DTSTART:20250528T210000Z
DTEND:20250528T223000Z
SUMMARY:Workshop: Fragrant Sachets
DESCRIPTION:<p>Sew a fragrant sachet to celebrate the Dragon Boat Festival. Basic sewing skills required. Space is limited. Reservations required (by phone or in person only): (415) 355- 2888 (starting May 1).&nbsp;&nbsp;<br><br><strong>This program is already full. 該活動名額已滿，報名截止。&nbsp;</strong></p>
LOCATION:Chinatown/Him Mark Lai
CLASS:PUBLIC
TRANSP:TRANSPARENT
END:VEVENT
BEGIN:VALARM
TRIGGER:-PT1440M
ACTION:DISPLAY
DESCRIPTION:Event Reminder - Workshop: Fragrant Sachets
END:VALARM
END:VCALENDAR