BEGIN:VCALENDAR
VERSION:2.0
PRODID:SFPL Web Calendar
BEGIN:VEVENT
UID:116112@sfpl.org
DTSTAMP:20250508T230000Z
DTSTART:20250508T230000Z
DTEND:20250509T000000Z
SUMMARY:Workshop: Tiny Succulents
DESCRIPTION:<p>Create tiny magnetic succulents to adorn a fridge, locker or other metal surface. A perfect gift for Mother's Day, another special occasion or to treat yourself.</p><p>For ages 12-18.</p>
LOCATION:Western Addition - Western Addition Meeting Room
CLASS:PUBLIC
TRANSP:TRANSPARENT
END:VEVENT
BEGIN:VALARM
TRIGGER:-PT1440M
ACTION:DISPLAY
DESCRIPTION:Event Reminder - Workshop: Tiny Succulents
END:VALARM
END:VCALENDAR