BEGIN:VCALENDAR
VERSION:2.0
PRODID:SFPL Web Calendar
BEGIN:VEVENT
UID:116445@sfpl.org
DTSTAMP:20250510T210000Z
DTSTART:20250510T210000Z
DTEND:20250510T220000Z
SUMMARY:Workshop: First Inventors Presents Building LED circuits
DESCRIPTION:<p>Build your own LED circuits using batteries, copper tape and LED diodes. After building your circuits, build a structure to put lights in, using scrap material. For ages 6 and older. This engagement is Teen-conceived, planned and presented.</p>
LOCATION:Merced - Merced General Floor Area
CLASS:PUBLIC
TRANSP:TRANSPARENT
END:VEVENT
BEGIN:VALARM
TRIGGER:-PT1440M
ACTION:DISPLAY
DESCRIPTION:Event Reminder - Workshop: First Inventors Presents Building LED circuits
END:VALARM
END:VCALENDAR