BEGIN:VCALENDAR
VERSION:2.0
PRODID:SFPL Web Calendar
BEGIN:VEVENT
UID:117219@sfpl.org
DTSTAMP:20250823T210000Z
DTSTART:20250823T210000Z
DTEND:20250823T220000Z
SUMMARY:Postponed: Performance: Kathak Dance with SF Kala Kendra
DESCRIPTION:<p><i><strong>This program has been postponed to Sat., Nov. 8, 2 p.m.. Thank you for your interest in our programs.</strong></i></p><p>Learn about Kathak dance, one of the eight major forms of Indian classical dance. Participate and learn a few moves from this centuries-old North Indian art form.</p><p>Connect: <a href="http://www.sfkalakendra.com/contact.html">SF Kala Kendra - Website</a><br>&nbsp;</p><p><br>&nbsp;</p>
LOCATION:Glen Park - Glen Park Meeting Room
CLASS:PUBLIC
TRANSP:TRANSPARENT
END:VEVENT
BEGIN:VALARM
TRIGGER:-PT1440M
ACTION:DISPLAY
DESCRIPTION:Event Reminder - Postponed: Performance: Kathak Dance with SF Kala Kendra
END:VALARM
END:VCALENDAR