BEGIN:VCALENDAR
VERSION:2.0
PRODID:SFPL Web Calendar
BEGIN:VEVENT
UID:117414@sfpl.org
DTSTAMP:20250709T190000Z
DTSTART:20250709T190000Z
DTEND:20250709T200000Z
SUMMARY:Workshop: Rhythm and Movement with Jarrel Phillips
DESCRIPTION:<p>Learn the moves of Maculele, a West African tribal dance. Build skills in rhythm, stick-patterned partner movements and drumming in a fun, relaxed community and play-based environment.&nbsp;</p><p>Space limited. Reservations required: (415) 355-5770 or sign up at the Information Desk (starting June 15).</p>
LOCATION:Parkside - Parkside Children's Area
CLASS:PUBLIC
TRANSP:TRANSPARENT
END:VEVENT
BEGIN:VALARM
TRIGGER:-PT1440M
ACTION:DISPLAY
DESCRIPTION:Event Reminder - Workshop: Rhythm and Movement with Jarrel Phillips
END:VALARM
END:VCALENDAR