BEGIN:VCALENDAR
VERSION:2.0
PRODID:SFPL Web Calendar
BEGIN:VEVENT
UID:118377@sfpl.org
DTSTAMP:20250717T220000Z
DTSTART:20250717T220000Z
DTEND:20250717T233000Z
SUMMARY:Workshop: Build Your Own Fingerboard Skateparks
DESCRIPTION:<p>Ramp up your summer with fingerboarding— a miniature version of skateboarding. Choose the graphics for your board and build cardboard skatepark structures including ramps and jumps. All supplies provided, including a take-home fingerboard.&nbsp;</p><p>For ages 10 and older.&nbsp;</p><p>Space limited. Reservations required: (415) 355-5727 (starting June 1).&nbsp;</p><p>Groups larger than 5, email <a href="mailto:wsa@sfpl.org">wsamgr@sfpl.org</a> for reservations.&nbsp;</p>
LOCATION:Western Addition - Western Addition Meeting Room
CLASS:PUBLIC
TRANSP:TRANSPARENT
END:VEVENT
BEGIN:VALARM
TRIGGER:-PT1440M
ACTION:DISPLAY
DESCRIPTION:Event Reminder - Workshop: Build Your Own Fingerboard Skateparks
END:VALARM
END:VCALENDAR