BEGIN:VCALENDAR
VERSION:2.0
PRODID:SFPL Web Calendar
BEGIN:VEVENT
UID:119171@sfpl.org
DTSTAMP:20250709T180000Z
DTSTART:20250709T180000Z
DTEND:20250709T190000Z
SUMMARY:Workshop: Census 101—An Introduction to Census Data
DESCRIPTION:<p>Designed for the novice user, this workshop presents an overview of the Census Bureau surveys and programs. Data topics include population, housing, social and economic statistics.&nbsp;</p><p>For questions about the session, email governmentinfo@sfpl.org.&nbsp;</p>
LOCATION:Virtual Library
CLASS:PUBLIC
TRANSP:TRANSPARENT
END:VEVENT
BEGIN:VALARM
TRIGGER:-PT1440M
ACTION:DISPLAY
DESCRIPTION:Event Reminder - Workshop: Census 101—An Introduction to Census Data
END:VALARM
END:VCALENDAR