BEGIN:VCALENDAR
VERSION:2.0
PRODID:SFPL Web Calendar
BEGIN:VEVENT
UID:120364@sfpl.org
DTSTAMP:20251006T220000Z
DTSTART:20251006T220000Z
DTEND:20251006T234500Z
SUMMARY:Film: A Kiss Before Dying
DESCRIPTION:<p>A young woman suspects that her new boyfriend may be a murderer. <a href="https://en.wikipedia.org/wiki/A_Kiss_Before_Dying_(1956_film)"><i>A Kiss Before Dying</i></a> stars Robert Wagner, Joanne Woodward and Virginia Leith.&nbsp;</p><p>TV-PG, 94 mins., 1956. Closed Captions (CC) in English.</p>
LOCATION:Golden Gate Valley - Golden Gate Valley Meeting Room
CLASS:PUBLIC
TRANSP:TRANSPARENT
END:VEVENT
BEGIN:VALARM
TRIGGER:-PT1440M
ACTION:DISPLAY
DESCRIPTION:Event Reminder - Film: A Kiss Before Dying
END:VALARM
END:VCALENDAR