BEGIN:VCALENDAR
VERSION:2.0
PRODID:SFPL Web Calendar
BEGIN:VEVENT
UID:121144@sfpl.org
DTSTAMP:20250810T203000Z
DTSTART:20250810T203000Z
DTEND:20250810T223000Z
SUMMARY:Workshop: Snap Circuits
DESCRIPTION:<p>Learn how to put together a circuit board that lights up or spins a fan. The Girls Who Code team will explain the meaning of electrician's symbols, representing electrical and electronic components, and how to connect components to react.</p>
LOCATION:Ortega - Ortega Meeting Room
CLASS:PUBLIC
TRANSP:TRANSPARENT
END:VEVENT
BEGIN:VALARM
TRIGGER:-PT1440M
ACTION:DISPLAY
DESCRIPTION:Event Reminder - Workshop: Snap Circuits
END:VALARM
END:VCALENDAR