BEGIN:VCALENDAR
VERSION:2.0
PRODID:SFPL Web Calendar
BEGIN:VEVENT
UID:121341@sfpl.org
DTSTAMP:20250923T233000Z
DTSTART:20250923T233000Z
DTEND:20250924T003000Z
SUMMARY:Workshop: Mixed Media Mini Nicho
DESCRIPTION:<p>Decorate a miniature shadow box reflecting a loved one, pet, memory, dream or aspiration. To personalize your nicho, bring an image that is 4x4 inches or smaller. Space limited. Seats available first come, first served.</p>
LOCATION:Bernal Heights - Bernal Heights Meeting Room
CLASS:PUBLIC
TRANSP:TRANSPARENT
END:VEVENT
BEGIN:VALARM
TRIGGER:-PT1440M
ACTION:DISPLAY
DESCRIPTION:Event Reminder - Workshop: Mixed Media Mini Nicho
END:VALARM
END:VCALENDAR