BEGIN:VCALENDAR
VERSION:2.0
PRODID:SFPL Web Calendar
BEGIN:VEVENT
UID:123138@sfpl.org
DTSTAMP:20250604T010000Z
DTSTART:20250604T010000Z
DTEND:20250604T020000Z
SUMMARY:Workshop: Visible Mending
DESCRIPTION:<p>Discover the basics of garment repair, including threading a needle, attaching buttons, sewing on patches, and reinforcing weak areas of clothing. Bring your own item to mend or practice on a sampler—materials provided. Together, we'll practice mending techniques that help minimize waste and maximize style! No prior experience necessary.</p><p>Space limited; first come, first served.</p><p>Audrey Danser is the owner of Salvage Studio, a zero-waste denim and garment repair business mending hole-y, ripped and torn textiles. Founded in 2021, she has repaired thousands of vintage and modern pieces for folks in the Bay Area and across the country. She also teaches mending workshops and repair happy hours for corporations, brands and the public.</p><p>Connect:</p><p><a href="https://url.avanan.click/v2/___https://salvagestudiosf.com/___.YXAzOnNmZHQyOmE6bzoxMmNjYzIzZWMyZTk2ZDQ1NWMyMjA2MDgzM2Y1NWUxZDo2OmMyM2Q6ZGIyN2RlZjkyMjhhMjdlYjk3YTkxNGRiZDU4N2I3NGRkYjUyODFhN2U1YzQzNDdmYTY3MDFiODMxMTcyNWE4YjpoOlQ">Salvage Studio - Website</a>&nbsp;|&nbsp;<a href="https://url.avanan.click/v2/___https://www.instagram.com/salvagestudiosf___.YXAzOnNmZHQyOmE6bzoxMmNjYzIzZWMyZTk2ZDQ1NWMyMjA2MDgzM2Y1NWUxZDo2OmI4YjQ6YWE1YTI5YTM3OGMwNDUxNDliOWI2MGM0NDlhZjUyMmYxM2MxZWE5YjRkOWE3N2VjNTY3NjljNWFlOGUzYTdmYzpoOlQ">@salvagestudiosf - Instagram</a>&nbsp;| <a href="https://www.yelp.com/biz/salvage-studio-denim-and-garment-repair-san-francisco">Salvage Studio - Yelp</a></p>
LOCATION:Main Library - Steve Silver Music Center - 4th Fl
CLASS:PUBLIC
TRANSP:TRANSPARENT
END:VEVENT
BEGIN:VALARM
TRIGGER:-PT1440M
ACTION:DISPLAY
DESCRIPTION:Event Reminder - Workshop: Visible Mending
END:VALARM
END:VCALENDAR