BEGIN:VCALENDAR
VERSION:2.0
PRODID:SFPL Web Calendar
BEGIN:VEVENT
UID:126140@sfpl.org
DTSTAMP:20251004T180000Z
DTSTART:20251004T180000Z
DTEND:20251004T190000Z
SUMMARY:Workshop: All About Worms
DESCRIPTION:<p>Learn about composting food scraps with worms, how worms help build healthy soil and meet the library's composting worms.&nbsp;</p><p>For children and their caregivers.&nbsp;</p>
LOCATION:Visitacion Valley - Visitacion Valley Meeting Room
CLASS:PUBLIC
TRANSP:TRANSPARENT
END:VEVENT
BEGIN:VALARM
TRIGGER:-PT1440M
ACTION:DISPLAY
DESCRIPTION:Event Reminder - Workshop: All About Worms
END:VALARM
END:VCALENDAR