BEGIN:VCALENDAR
VERSION:2.0
PRODID:SFPL Web Calendar
BEGIN:VEVENT
UID:126625@sfpl.org
DTSTAMP:20250926T010000Z
DTSTART:20250926T010000Z
DTEND:20250926T020000Z
SUMMARY:Services: Ask a Vet—Pet Care Q&A with Vets in Vans
DESCRIPTION:<p>Join the veterinarians from Vets in Vans for a casual and informative Q&A session at the library! Whether you're a new pet parent or have a longtime furry companion, you're welcome to drop by, ask questions and learn how to better support your animal's well-being.</p>
LOCATION:Visitacion Valley - Visitacion Valley Meeting Room
CLASS:PUBLIC
TRANSP:TRANSPARENT
END:VEVENT
BEGIN:VALARM
TRIGGER:-PT1440M
ACTION:DISPLAY
DESCRIPTION:Event Reminder - Services: Ask a Vet—Pet Care Q&A with Vets in Vans
END:VALARM
END:VCALENDAR