BEGIN:VCALENDAR
VERSION:2.0
PRODID:SFPL Web Calendar
BEGIN:VEVENT
UID:127016@sfpl.org
DTSTAMP:20251005T210000Z
DTSTART:20251005T210000Z
DTEND:20251005T230000Z
SUMMARY:Activity: Cat Cafe with Therapy Cats
DESCRIPTION:<p>Meet a therapy pet provided by the San Francisco Society for the Prevention of Cruelty to Animals (SF SPCA) to provide comfort and relieve stress. Join us for a cat-themed puzzle, craft, and time with therapy cats Miki and Mansi.&nbsp;</p>
LOCATION:Bernal Heights - Bernal Heights Meeting Room
CLASS:PUBLIC
TRANSP:TRANSPARENT
END:VEVENT
BEGIN:VALARM
TRIGGER:-PT1440M
ACTION:DISPLAY
DESCRIPTION:Event Reminder - Activity: Cat Cafe with Therapy Cats
END:VALARM
END:VCALENDAR