BEGIN:VCALENDAR
VERSION:2.0
PRODID:SFPL Web Calendar
BEGIN:VEVENT
UID:127119@sfpl.org
DTSTAMP:20250917T190000Z
DTSTART:20250917T190000Z
DTEND:20250917T200000Z
SUMMARY:Tutorial: Lectura de periódicos en español en PressReader
DESCRIPTION:<p>Lea noticias en español de alrededor del mundo en PressReader, una aplicación bibliotecaria.</p><p>Ya sea que busque noticias de su país o esté practicando un nuevo idioma, con su tarjeta bibliotecaria de la SFPL puede leer noticias en español de América Latina y más allá.</p><p>En este tutorial virtual destacaremos una selección de nuestros periódicos y revistas favoritos en español y le enseñaremos cómo acceder a estos y otros en PressReader, una aplicación de la biblioteca disponible en su computadora, tableta y teléfono.</p><p>Presentado principalmente en inglés por una bibliotecaria especializada en revistas y periódicos, este tutorial en Zoom incluirá subtítulos en español y un intérprete estará disponible para responder preguntas en español.</p><p>El tutorial se grabará. Inscríbase para recibir la grabación del tutorial aunque no pueda asistir a la sesión en vivo el Miércoles, 17 de septiembre de 2025.</p><p>Conéctese</p><p><a href="https://sfpl.libanswers.com/sp/faq/429383?m=p">PressReader – Preguntas frecuentes de la biblioteca</a></p><p><a href="https://sfpl.org/es/locations/main-library/centro-de-revistas-periodicos">Centro de revistas y periódicos – Página web de la biblioteca</a>&nbsp;</p>
LOCATION:Virtual Library
CLASS:PUBLIC
TRANSP:TRANSPARENT
END:VEVENT
BEGIN:VALARM
TRIGGER:-PT1440M
ACTION:DISPLAY
DESCRIPTION:Event Reminder - Tutorial: Lectura de periódicos en español en PressReader
END:VALARM
END:VCALENDAR