BEGIN:VCALENDAR
VERSION:2.0
PRODID:SFPL Web Calendar
BEGIN:VEVENT
UID:127128@sfpl.org
DTSTAMP:20251004T210000Z
DTSTART:20251004T210000Z
DTEND:20251004T221500Z
SUMMARY:Film: San Francisco Dance Film Festival
DESCRIPTION:<p>Experience the power of dance on screen through ten short films that explore identity, place and expression through the international language of movement. From sizzling jazz and bold drag to athletic street styles and world-class ballet, this curated lineup travels from intimate studios to bustling city streets—from Lagos and Mexico City to San Francisco’s own soaring hilltops. Presented in partnership with the San Francisco Dance Film Festival, the program includes documentary shorts, narratives and experimental screen-dance works.</p><p><strong>Connect:</strong></p><p><a href="https://sfdancefilmfest.org/">San Francisco Dance Film Festival - Website</a> | <a href="https://www.instagram.com/sfdancefilmfest">San Francisco Dance Film Festival - Instagram</a> | <a href="https://www.facebook.com/SFDanceFilmFest">San Francisco Dance Film Festival - Facebook</a><br>&nbsp;</p>
LOCATION:Main Library - Koret Auditorium
CLASS:PUBLIC
TRANSP:TRANSPARENT
END:VEVENT
BEGIN:VALARM
TRIGGER:-PT1440M
ACTION:DISPLAY
DESCRIPTION:Event Reminder - Film: San Francisco Dance Film Festival
END:VALARM
END:VCALENDAR