BEGIN:VCALENDAR
VERSION:2.0
PRODID:SFPL Web Calendar
BEGIN:VEVENT
UID:127887@sfpl.org
DTSTAMP:20250831T210000Z
DTSTART:20250831T210000Z
DTEND:20250831T223000Z
SUMMARY:Activity: Create Your Own Universe
DESCRIPTION:<p>Create your own universe using magic clay. &nbsp;For ages 6–12. &nbsp;</p>
LOCATION:West Portal - West Portal Teen's Area
CLASS:PUBLIC
TRANSP:TRANSPARENT
END:VEVENT
BEGIN:VALARM
TRIGGER:-PT1440M
ACTION:DISPLAY
DESCRIPTION:Event Reminder - Activity: Create Your Own Universe
END:VALARM
END:VCALENDAR