BEGIN:VCALENDAR
VERSION:2.0
PRODID:SFPL Web Calendar
BEGIN:VEVENT
UID:128401@sfpl.org
DTSTAMP:20251008T220000Z
DTSTART:20251008T220000Z
DTEND:20251008T234500Z
SUMMARY:Film: Bitter Melon
DESCRIPTION:<p>When a Filipino-American family reunites for a Christmas party in San Francisco's Excelsior neighborhood, the holiday takes a dark turn when they conspire to murder the abusive bully of the family in this dark comedy by filmmaker H.P. Mendoza.</p><p>"an intriguing and absorbing independent film" - G. Allen Johnson, SF Chronicle</p><p>TV-14, 110 min., 2018. Closed captions (CC) in English.&nbsp;</p>
LOCATION:Golden Gate Valley - Golden Gate Valley Meeting Room
CLASS:PUBLIC
TRANSP:TRANSPARENT
END:VEVENT
BEGIN:VALARM
TRIGGER:-PT1440M
ACTION:DISPLAY
DESCRIPTION:Event Reminder - Film: Bitter Melon
END:VALARM
END:VCALENDAR