BEGIN:VCALENDAR
VERSION:2.0
PRODID:SFPL Web Calendar
BEGIN:VEVENT
UID:129071@sfpl.org
DTSTAMP:20251004T200000Z
DTSTART:20251004T200000Z
DTEND:20251004T230000Z
SUMMARY:Celebration: Open House
DESCRIPTION:<p>Celebrate the Parkside Branch Library and community during our annual open house.&nbsp;</p><p><strong>Craft Activities</strong>&nbsp;</p><ul><li>1:00 p.m.- 2:00 p.m. - Activity: Decorate Mini Pumpkins</li><li>2:30 p.m.-4:00 p.m.- Workshop: Create Felt Plushies. Make a felt plushie using a hot glue gun. No sewing is required. Sock puppets can be made by younger children. For children and their families. Youth under the age of 8 must be accompanied by an adult.&nbsp;</li></ul><p><strong>Live Music</strong>&nbsp;</p><ul><li>2:00 p.m. - Performance: Anna Hillburg. Hillburg's most recent album, <i>Tired Girls</i>, is a rich chamber pop collection of songs informed by her eclectic background ranging from the orchestral to indie rock and many points in between.</li><li>3:00 p.m. - Tricycle Music Fest: Performance by Megan Schoenbohm. Schoenbohm has released four albums of children's music, two of them Grammy contenders.</li></ul><p><strong>Additional Activities</strong></p><ul><li>1:15 p.m.-1:45 p.m. - Activity: The Return of Adventures in Ice Cream Mix-Ins</li><li>There will be light refreshments, a library scavenger hunt and book giveaways for all ages.&nbsp;&nbsp;</li></ul><p>Connect: <a href="https://baybeats.sfpl.org/artists/anna-hillburg">Anna Hillburg, Bay Beats - Website</a></p><p>Connect: <a href="https://www.musictimewithmegan.com/about">Megan Schoenbohm&nbsp;- Website</a></p><p>&nbsp;</p>
LOCATION:Parkside - Parkside General Floor Area
CLASS:PUBLIC
TRANSP:TRANSPARENT
END:VEVENT
BEGIN:VALARM
TRIGGER:-PT1440M
ACTION:DISPLAY
DESCRIPTION:Event Reminder - Celebration: Open House
END:VALARM
END:VCALENDAR