BEGIN:VCALENDAR
VERSION:2.0
PRODID:SFPL Web Calendar
BEGIN:VEVENT
UID:129088@sfpl.org
DTSTAMP:20250812T220000Z
DTSTART:20250812T220000Z
DTEND:20250812T230000Z
SUMMARY:Workshop: Candy Science
DESCRIPTION:<p>Put on your lab coats and get ready to experiment with some of your favorite candy. For children ages 5 and older.&nbsp;</p>
LOCATION:Merced - Merced General Floor Area
CLASS:PUBLIC
TRANSP:TRANSPARENT
END:VEVENT
BEGIN:VALARM
TRIGGER:-PT1440M
ACTION:DISPLAY
DESCRIPTION:Event Reminder - Workshop: Candy Science
END:VALARM
END:VCALENDAR