BEGIN:VCALENDAR
VERSION:2.0
PRODID:SFPL Web Calendar
BEGIN:VEVENT
UID:129561@sfpl.org
DTSTAMP:20260220T190000Z
DTSTART:20260220T190000Z
DTEND:20260220T200000Z
SUMMARY:FULL: Performance: Z Space's Production of The Eyes and The Impossible
DESCRIPTION:<p><strong>The event and waitlist are full.&nbsp;</strong></p><p>Join SFUSD classes as they experience Z Space’s Word for Word for a special stage adaptation of Dave Eggers’ book, <a href="https://sfpl.bibliocommons.com/v2/record/S93C5765631"><i>The Eyes & The Impossible</i></a>. A sampling of the stage performance at Main Library will be followed by a conversation with the artists and creative team – including Dave Eggers! Youth and their caregivers are encouraged to experience the joy of theater, reading, storytelling and play. Don’t miss this inspiring and interactive literary experience. For children ages 6 and older and their caregivers.&nbsp;Space limited for the general public.&nbsp;</p><p>Find <a href="https://on.sfpl.org/eyes">additional library events</a> with Z Space's The Eyes and The Impossible.</p><p>Connect: <a href="https://www.zspace.org/aboutwordforword">Z Space's Word for Word – Website</a></p><p>Connect: <a href="https://www.zspace.org/">Z Space – Website</a> I <a href="https://www.facebook.com/zspaceSF/">Z Space – Facebook</a> I <a href="https://www.instagram.com/zspacesf/#">Z Space – Instagram</a> I <a href="https://www.youtube.com/channel/UCyXhwdhCihlX8rBkALuz9qg">Z Space – YouTube</a></p><p>&nbsp;</p>
LOCATION:Main Library - Koret Auditorium
CLASS:PUBLIC
TRANSP:TRANSPARENT
END:VEVENT
BEGIN:VALARM
TRIGGER:-PT1440M
ACTION:DISPLAY
DESCRIPTION:Event Reminder - FULL: Performance: Z Space's Production of The Eyes and The Impossible
END:VALARM
END:VCALENDAR