BEGIN:VCALENDAR
VERSION:2.0
PRODID:SFPL Web Calendar
BEGIN:VEVENT
UID:129597@sfpl.org
DTSTAMP:20250827T214500Z
DTSTART:20250827T214500Z
DTEND:20250827T224500Z
SUMMARY:Activity: Food Art
DESCRIPTION:<p>Draw or print out a design to create a masterpiece out of M and M's. Show it to a librarian to take a picture and then enjoy your candy creation at the end. For ages 10-18. First come, first served. Supplies limited.&nbsp;</p>
LOCATION:North Beach - North Beach Library Community Room
CLASS:PUBLIC
TRANSP:TRANSPARENT
END:VEVENT
BEGIN:VALARM
TRIGGER:-PT1440M
ACTION:DISPLAY
DESCRIPTION:Event Reminder - Activity: Food Art
END:VALARM
END:VCALENDAR