BEGIN:VCALENDAR
VERSION:2.0
PRODID:SFPL Web Calendar
BEGIN:VEVENT
UID:130210@sfpl.org
DTSTAMP:20260422T010000Z
DTSTART:20260422T010000Z
DTEND:20260422T023000Z
SUMMARY:Book Club: Rincón Literario
DESCRIPTION:<p>Rincón Literario es un club de lectura en español que se reúne en el tercer piso de la biblioteca central.</p><p>Leeremos en abril, <a href="https://sfpl.bibliocommons.com/v2/record/S93C5759239">Tu sueño imperios han sido</a> por Alvaro Enrigue.</p><p>La lista de libros que vamos a leer se encuentra <a href="https://sfpl.bibliocommons.com/list/share/383538857/2231190319">aqui</a>.</p><p>Rincón Literario is a Spanish book club that meets on the 3rd floor of the Main Library.&nbsp;</p><p>In April, we will read <a href="https://sfpl.bibliocommons.com/v2/record/S93C5759239">Tu sueño imperios han sido</a> by Alvaro Enrigue.</p><p>To find the complete list of books, please click <a href="https://sfpl.bibliocommons.com/list/share/383538857/2231190319">here</a>.</p>
LOCATION:Main Library - Martin Paley Conference Room - 3rd Fl
CLASS:PUBLIC
TRANSP:TRANSPARENT
END:VEVENT
BEGIN:VALARM
TRIGGER:-PT1440M
ACTION:DISPLAY
DESCRIPTION:Event Reminder - Book Club: Rincón Literario
END:VALARM
END:VCALENDAR