BEGIN:VCALENDAR
VERSION:2.0
PRODID:SFPL Web Calendar
BEGIN:VEVENT
UID:130254@sfpl.org
DTSTAMP:20260111T220000Z
DTSTART:20260111T220000Z
DTEND:20260112T010000Z
SUMMARY:Film: Food Delivery: Fresh from the West Philippine Sea
DESCRIPTION:<p>Amid rising tensions in the West Philippine Sea, Filipino fishermen, Coast Guard, and Navy personnel risk everything to defend their waters and way of life. Through the harrowing journey of fisherman Arnel Satam, pursued by the China Coast Guard near Scarborough Shoal the film unveils the daily dangers faced at sea.</p><p>With rare access to frontline officers, it captures their quiet heroism, personal sacrifice, and unwavering duty. At its heart is a remarkable alliance: fishermen and Coast Guard risking their lives together to deliver food and aid. Visually stunning and deeply moving, this is a story of resilience, unity, and the fight for freedom.</p><p>Please stay for the post-screening&nbsp;panel discussion and Q&A.&nbsp;</p><p>Directed by Baby Ruth Villarama.</p><p>NR, 85 min., 2025. Closed captions (CC) in English.&nbsp;</p><p>Register here: <a href="https://bit.ly/WPSdocumentary">Food Delivery screening.</a></p>
LOCATION:Main Library - Koret Auditorium
CLASS:PUBLIC
TRANSP:TRANSPARENT
END:VEVENT
BEGIN:VALARM
TRIGGER:-PT1440M
ACTION:DISPLAY
DESCRIPTION:Event Reminder - Film: Food Delivery: Fresh from the West Philippine Sea
END:VALARM
END:VCALENDAR