BEGIN:VCALENDAR
VERSION:2.0
PRODID:SFPL Web Calendar
BEGIN:VEVENT
UID:130371@sfpl.org
DTSTAMP:20260517T210000Z
DTSTART:20260517T210000Z
DTEND:20260517T223000Z
SUMMARY:Workshop: How to Write a Memoir, Short Story, and Essay
DESCRIPTION:<p>Part 8&nbsp;- Write from your heart / let your readers feel your emotions.&nbsp;&nbsp;</p><p>Whether you’re looking to refine your writing skills, explore your purpose as a storyteller, or find confidence writing in English as a second language, Jing Li’s approachable style will help you develop your voice. From shaping ideas into purpose and building a meaningful theme, this workshop will provide the tools and support you need to bring your unique story to life.</p><p>This series is a supportive space for all aspiring writers. Join us and let Jing Li help you turn your ideas into a powerful narrative.</p><p>Hot tea will be provided.</p>
LOCATION:Main Library - Martin Paley Conference Room - 3rd Fl
CLASS:PUBLIC
TRANSP:TRANSPARENT
END:VEVENT
BEGIN:VALARM
TRIGGER:-PT1440M
ACTION:DISPLAY
DESCRIPTION:Event Reminder - Workshop: How to Write a Memoir, Short Story, and Essay
END:VALARM
END:VCALENDAR