BEGIN:VCALENDAR
VERSION:2.0
PRODID:SFPL Web Calendar
BEGIN:VEVENT
UID:130522@sfpl.org
DTSTAMP:20260418T210000Z
DTSTART:20260418T210000Z
DTEND:20260418T220000Z
SUMMARY:Performance: The Living Poets Society
DESCRIPTION:<p>Celebrate the power of poetry with the Living Poets Society Reading Series, a series curated by SF Poet Laureate Genny Lim, in collaboration with Youth Speaks and 826 Valencia, that introduces members of the SF Youth Poet Laureate program to the public. This intergenerational reading will feature Youth Poets Katelyn Wong and Linh Ho and local poet Leticia Hernández-Linares. Bring your own poems to share at the open mic that follows. <strong>Reservations recommended (by phone or in person only): (415) 355-5638.&nbsp;</strong></p><p>&nbsp;</p><p>&nbsp;</p>
LOCATION:Richmond/Senator Milton Marks - Richmond Meeting Room
CLASS:PUBLIC
TRANSP:TRANSPARENT
END:VEVENT
BEGIN:VALARM
TRIGGER:-PT1440M
ACTION:DISPLAY
DESCRIPTION:Event Reminder - Performance: The Living Poets Society
END:VALARM
END:VCALENDAR