BEGIN:VCALENDAR
VERSION:2.0
PRODID:SFPL Web Calendar
BEGIN:VEVENT
UID:131609@sfpl.org
DTSTAMP:20260325T220000Z
DTSTART:20260325T220000Z
DTEND:20260325T230000Z
SUMMARY:Activity: LEGO Motorcars
DESCRIPTION:<p>Make motorized LEGO cars by applying real-world concepts in physics and engineering. For ages 7 and older. Space limited. Seats available first come, first served.</p>
LOCATION:Potrero - Potrero Meeting Room
CLASS:PUBLIC
TRANSP:TRANSPARENT
END:VEVENT
BEGIN:VALARM
TRIGGER:-PT1440M
ACTION:DISPLAY
DESCRIPTION:Event Reminder - Activity: LEGO Motorcars
END:VALARM
END:VCALENDAR