BEGIN:VCALENDAR
VERSION:2.0
PRODID:SFPL Web Calendar
BEGIN:VEVENT
UID:132242@sfpl.org
DTSTAMP:20260301T213000Z
DTSTART:20260301T213000Z
DTEND:20260301T224500Z
SUMMARY:Performance: Silk Strings Ensemble Music Concert
DESCRIPTION:<p>Celebrate the Lunar New Year with the joy of music from Silk Strings Ensemble.</p><p>Silk Strings Ensemble is a Chinese musical group made up of San Francisco high schoolers who perform Chinese traditional instruments: yangqin (also known as the Chinese hammered dulcimer) which is a stringed instrument played with rubber-tipped bamboo sticks, and guzheng (also known as the Chinese plucked zither) which is also a string instrument but plucked with finger picks, This concert will also include performances with erhu and moon guitar.</p><p>Silk Strings Ensemble performs traditional Chinese music as well as modern favorites from Taylor Swift and BTS.&nbsp;</p><p>喜迎農曆新年，讓音樂點亮新春的喜悅！</p><p>絲弦樂團（Silk Strings Ensemble）是一個由三藩市高中生組成的華樂團體，演奏中國傳統樂器，包括揚琴、古箏、二胡以及月琴。</p><p>絲弦樂團除了演奏中國傳統音樂外，也改編並演出 Taylor Swift 與 BTS防彈少年團 等現代流行曲目。</p>
LOCATION:Main Library - Koret Auditorium
CLASS:PUBLIC
TRANSP:TRANSPARENT
END:VEVENT
BEGIN:VALARM
TRIGGER:-PT1440M
ACTION:DISPLAY
DESCRIPTION:Event Reminder - Performance: Silk Strings Ensemble Music Concert
END:VALARM
END:VCALENDAR