BEGIN:VCALENDAR
VERSION:2.0
PRODID:SFPL Web Calendar
BEGIN:VEVENT
UID:132628@sfpl.org
DTSTAMP:20251206T210000Z
DTSTART:20251206T210000Z
DTEND:20251206T223000Z
SUMMARY:Workshop: Miniature Art Studio Pop Up with Tammie Knight
DESCRIPTION:<p>Build a miniature art studio at this workshop with professional miniaturist Tammie Knight. Hang out after to work on your contribution for Glen Park's Tiny Art Show coming soon this January.</p><p><strong>Tammie Knight</strong> is a Bay Area Artist and Parsons School of Design graduate, specializing in meticulously detailed 1:12 scale structures that capture the essence of real-world spaces. Her work has garnered collaborations with esteemed institutions, including the San Francisco Public Library, the Bedford Gallery, the African American Museum and Library of Oakland, the San Francisco Museum of Craft & Design, Art Basel Miami, and Google Arts & Culture.</p><p><a href="https://www.smallmattersminiatures.com/">Tammie Knight - Website</a></p><p>For ages 15 and up.</p><p>Space limited. Reservations required: (415) 355-2858.</p>
LOCATION:Glen Park - Glen Park Meeting Room
CLASS:PUBLIC
TRANSP:TRANSPARENT
END:VEVENT
BEGIN:VALARM
TRIGGER:-PT1440M
ACTION:DISPLAY
DESCRIPTION:Event Reminder - Workshop: Miniature Art Studio Pop Up with Tammie Knight
END:VALARM
END:VCALENDAR