BEGIN:VCALENDAR
VERSION:2.0
PRODID:SFPL Web Calendar
BEGIN:VEVENT
UID:133537@sfpl.org
DTSTAMP:20260515T200000Z
DTSTART:20260515T200000Z
DTEND:20260515T213000Z
SUMMARY:Tutorial: Smartphone Class For Older Adults 60+
DESCRIPTION:<p>Self-Help for the Elderly provides a training program to improve technical skills with hands-on training for smartphones and tablets. Participants should bring their own iOS or Android devices to class.</p><p><strong>Topic: The Function of ChatGPT</strong><br>✔ How to ask questions to get information?</p><p>✔ How to translate text?</p><p>✔ How to generate images?</p><p><strong>Space limited. Reservations required:</strong></p><p>(415) 355-2808 (starting May 1).</p><p><i>*Reservations open on the 1st of each month — limit 1 class per person. To join more classes, call on the 10th of the month to check availability. Applies to English & Chinese sessions.</i></p>
LOCATION:Sunset - Sunset Program Room
CLASS:PUBLIC
TRANSP:TRANSPARENT
END:VEVENT
BEGIN:VALARM
TRIGGER:-PT1440M
ACTION:DISPLAY
DESCRIPTION:Event Reminder - Tutorial: Smartphone Class For Older Adults 60+
END:VALARM
END:VCALENDAR