BEGIN:VCALENDAR
VERSION:2.0
PRODID:SFPL Web Calendar
BEGIN:VEVENT
UID:134811@sfpl.org
DTSTAMP:20260502T210000Z
DTSTART:20260502T210000Z
DTEND:20260502T230000Z
SUMMARY:Workshop: Stamp Making
DESCRIPTION:<p>Making stamps is easy and fun, and adds a great personal touch to cards, tote bags or homemade gift wrap. &nbsp;</p><p>Space limited. Reservations required: 415-355-2848 (Starting April 1).</p>
LOCATION:Visitacion Valley - Visitacion Valley Meeting Room
CLASS:PUBLIC
TRANSP:TRANSPARENT
END:VEVENT
BEGIN:VALARM
TRIGGER:-PT1440M
ACTION:DISPLAY
DESCRIPTION:Event Reminder - Workshop: Stamp Making
END:VALARM
END:VCALENDAR