BEGIN:VCALENDAR
VERSION:2.0
PRODID:SFPL Web Calendar
BEGIN:VEVENT
UID:135030@sfpl.org
DTSTAMP:20251114T010000Z
DTSTART:20251114T010000Z
DTEND:20251114T023000Z
SUMMARY:Dialogue: Glen Park Neighborhood History Night
DESCRIPTION:<p>Join community partners and neighbors in sharing stories about important people, places, businesses and traditions in our neighborhood.&nbsp;Learn about ongoing historic preservation efforts by Glen Park Neighborhood History Project and the SF Planning Department, and review in progress historic and cultural resource findings for the Glen Park&nbsp;Neighborhood Commercial Districts. Light refreshments will be provided.</p>
LOCATION:Glen Park - Glen Park Meeting Room
CLASS:PUBLIC
TRANSP:TRANSPARENT
END:VEVENT
BEGIN:VALARM
TRIGGER:-PT1440M
ACTION:DISPLAY
DESCRIPTION:Event Reminder - Dialogue: Glen Park Neighborhood History Night
END:VALARM
END:VCALENDAR