BEGIN:VCALENDAR
VERSION:2.0
PRODID:SFPL Web Calendar
BEGIN:VEVENT
UID:135327@sfpl.org
DTSTAMP:20260523T210000Z
DTSTART:20260523T210000Z
DTEND:20260523T220000Z
SUMMARY:Perfomance: SF Jewish Folk Chorus
DESCRIPTION:<p>The Jewish Folk Chorus of San Francisco celebrates its 100th birthday with a program of favorite songs chosen from our many joyous years of singing. There will be songs of solidarity, of labor, of humor, of love, of protest, and of peace, sung in Yiddish, Russian, Ladino, English, and even a little Turkish. Come join us in a sing-along as we mark this festive anniversary!</p>
LOCATION:Richmond/Senator Milton Marks - Richmond Meeting Room
CLASS:PUBLIC
TRANSP:TRANSPARENT
END:VEVENT
BEGIN:VALARM
TRIGGER:-PT1440M
ACTION:DISPLAY
DESCRIPTION:Event Reminder - Perfomance: SF Jewish Folk Chorus
END:VALARM
END:VCALENDAR