BEGIN:VCALENDAR
VERSION:2.0
PRODID:SFPL Web Calendar
BEGIN:VEVENT
UID:136993@sfpl.org
DTSTAMP:20260515T010000Z
DTSTART:20260515T010000Z
DTEND:20260515T023000Z
SUMMARY:Performance: Queer Ancestors Project Comix!
DESCRIPTION:<p>Celebrate emerging queer and trans artists in a soul-filling reading that celebrates the culmination of a month-long queer comix workshop facilitated by <a href="https://www.ajuanmance.com/about/">Ajuan Mance</a> in partnership with the <a href="https://www.queerancestorsproject.org/">Queer Ancestors Project</a>.</p>
LOCATION:Main Library - James C. Hormel LGBTQIA Center - 3rd Fl
CLASS:PUBLIC
TRANSP:TRANSPARENT
END:VEVENT
BEGIN:VALARM
TRIGGER:-PT1440M
ACTION:DISPLAY
DESCRIPTION:Event Reminder - Performance: Queer Ancestors Project Comix!
END:VALARM
END:VCALENDAR