BEGIN:VCALENDAR
VERSION:2.0
PRODID:SFPL Web Calendar
BEGIN:VEVENT
UID:137360@sfpl.org
DTSTAMP:20260225T020000Z
DTSTART:20260225T020000Z
DTEND:20260225T030000Z
SUMMARY:Workshop: Write with Kimi Sugioka
DESCRIPTION:<p>Create new writing from poetic prompts and beautiful music by Alameda Poet Laureate Kimi Sugioka.&nbsp;<br><br><strong>Space limited. Reservations required: (415) 355-5626 or sign-up at the reference desk.&nbsp;</strong><br><br>About the presenter: Born in Chapel Hill, North Carolina and raised in Berkeley, California, <strong>Kimi Sugioka</strong> is a poet, songwriter and educator. She performs her work frequently throughout the Bay Area. She has worked in public education for decades and earned her BA from San Francisco State University and MFA from the Naropa Institute in Boulder, Colorado. She is the author of <a href="https://sfpl.bibliocommons.com/v2/record/S93C6516862"><i>Wile & Wing </i></a>(Manic D Press, 2019) and other books of poetry.</p>
LOCATION:North Beach - North Beach Library Community Room
CLASS:PUBLIC
TRANSP:TRANSPARENT
END:VEVENT
BEGIN:VALARM
TRIGGER:-PT1440M
ACTION:DISPLAY
DESCRIPTION:Event Reminder - Workshop: Write with Kimi Sugioka
END:VALARM
END:VCALENDAR