BEGIN:VCALENDAR
VERSION:2.0
PRODID:SFPL Web Calendar
BEGIN:VEVENT
UID:137558@sfpl.org
DTSTAMP:20260221T230000Z
DTSTART:20260221T230000Z
DTEND:20260222T000000Z
SUMMARY:Performance: Destiny Muhammad
DESCRIPTION:<p>Harpist from the Hood, Destiny Muhammad, shares a Black History story through the sound of African Ancestry, Field Hollers and JAZZ taking listeners on a sonic journey from Africa to Alice Coltrane.</p><p><a href="https://destinymuhammad.net/">Destiny Muhammad </a>is a Recording/ Performing Artist | Band Leader | Composer & Producer. Her genre "Celtic to Coltrane" is cool and eclectic with a feel of jazz & storytelling to round out the sonic experience. She has served as the Black History Month Artist in Residence for the Healdsburg Jazz Festival and Teaching Artist with her Trio for SFJAZZ sharing with Students 'Jazz & Social Justice'</p><p>Connect: <a href="https://destinymuhammad.net/">Destiny Muhammad – Website</a></p>
LOCATION:Visitacion Valley - Visitacion Valley General Floor Area
CLASS:PUBLIC
TRANSP:TRANSPARENT
END:VEVENT
BEGIN:VALARM
TRIGGER:-PT1440M
ACTION:DISPLAY
DESCRIPTION:Event Reminder - Performance: Destiny Muhammad
END:VALARM
END:VCALENDAR