BEGIN:VCALENDAR
VERSION:2.0
PRODID:SFPL Web Calendar
BEGIN:VEVENT
UID:137583@sfpl.org
DTSTAMP:20260429T010000Z
DTSTART:20260429T010000Z
DTEND:20260429T020000Z
SUMMARY:Presentation: Opera in the Latin World
DESCRIPTION:<p>Head south of the border&nbsp;to discover a wealth of treasure on the operatic stage. This 90-minute survey explores the rich history and tradition of Zarzuela (Spanish-language opera), influential South American composers such as Astor Piazolla and Heitor Villa-Lobos, and the voices of Latinx superstars. Whether you’re new to opera or a seasoned aficionado, there’s a whole other world of musical storytelling to add to your opera playlist.</p><p>Connect: <a href="https://www.sfopera.com/">Website - San Francisco Opera&nbsp;</a></p>
LOCATION:Virtual Library
CLASS:PUBLIC
TRANSP:TRANSPARENT
END:VEVENT
BEGIN:VALARM
TRIGGER:-PT1440M
ACTION:DISPLAY
DESCRIPTION:Event Reminder - Presentation: Opera in the Latin World
END:VALARM
END:VCALENDAR